BEGIN:VCALENDAR
VERSION:2.0
PRODID:-//MPNA Green - ECPv6.15.18//NONSGML v1.0//EN
CALSCALE:GREGORIAN
METHOD:PUBLISH
X-ORIGINAL-URL:https://mpnagreen.org
X-WR-CALDESC:Events for MPNA Green
REFRESH-INTERVAL;VALUE=DURATION:PT1H
X-Robots-Tag:noindex
X-PUBLISHED-TTL:PT1H
BEGIN:VTIMEZONE
TZID:America/Los_Angeles
BEGIN:DAYLIGHT
TZOFFSETFROM:-0800
TZOFFSETTO:-0700
TZNAME:PDT
DTSTART:20250309T100000
END:DAYLIGHT
BEGIN:STANDARD
TZOFFSETFROM:-0700
TZOFFSETTO:-0800
TZNAME:PST
DTSTART:20251102T090000
END:STANDARD
BEGIN:DAYLIGHT
TZOFFSETFROM:-0800
TZOFFSETTO:-0700
TZNAME:PDT
DTSTART:20260308T100000
END:DAYLIGHT
BEGIN:STANDARD
TZOFFSETFROM:-0700
TZOFFSETTO:-0800
TZNAME:PST
DTSTART:20261101T090000
END:STANDARD
BEGIN:DAYLIGHT
TZOFFSETFROM:-0800
TZOFFSETTO:-0700
TZNAME:PDT
DTSTART:20270314T100000
END:DAYLIGHT
BEGIN:STANDARD
TZOFFSETFROM:-0700
TZOFFSETTO:-0800
TZNAME:PST
DTSTART:20271107T090000
END:STANDARD
END:VTIMEZONE
BEGIN:VEVENT
DTSTART;TZID=America/Los_Angeles:20260106T180000
DTEND;TZID=America/Los_Angeles:20260106T190000
DTSTAMP:20260425T114401
CREATED:20250617T235421Z
LAST-MODIFIED:20250617T235421Z
UID:4557-1767722400-1767726000@mpnagreen.org
SUMMARY:No-Cost ZUMBA Class/ Clase gratuita de Zumba
DESCRIPTION:Find your Zumba community at… \nMadison Elementary School Library | Enter through Gate 4 on Hobart St. \nClass runs from: 6:00 – 7:00 PM \nWhy join us? \nZumba is a fun\, high-energy dance workout that helps you:\n1. Boost your heart health\n2. Improve mood and energy\n3. Build community\n4. Reduce stress \nWho can attend?\nYou must be 18 or older; no childcare is offered at this time. Bring water and wear comfy shoes. \nQuestions?\nContact: Health Equity Coordinator\nEmail: healthequitycoordinator@mpnagreen.org\nPhone: (714) 623-7843 \n \n\nEncuentra tu comunidad Zumba en… \nLa Biblioteca de la escuela Primaria Madison | Ingrese por la Puerta 4 en la calle Hobart. \nLa clase dura desde: 6:00 – 7:00 PM \n¿Por qué unirse a nosotros? \nZumba es un entrenamiento divertido y lleno de energía que te ayuda a:\n1. Mejorar tu salud del corazón\n2. Elevar el estado de ánimo y la energía\n3. Conectarte con la comunidad\n4. Reducir el estrés \n ¿Quién puede asistir?\nDebes ser mayor de 18 años; no se ofrece servicio de guardería en este momento. Lleve agua y calzado cómodo. \n ¿Preguntas?\nContacto: Coordinadora de Equidad en Salud\nCorreo: healthequitycoordinator@mpnagreen.org\nTeléfono: (714) 623-7843
URL:https://mpnagreen.org/event/no-cost-zumba-class-clase-gratuita-de-zumba-26/
LOCATION:Madison Elementary School\, 1124 East Hobart Street\, Santa Ana\, CA\, 92707\, United States
END:VEVENT
BEGIN:VEVENT
DTSTART;TZID=America/Los_Angeles:20260108T180000
DTEND;TZID=America/Los_Angeles:20260108T190000
DTSTAMP:20260425T114401
CREATED:20250617T235449Z
LAST-MODIFIED:20250617T235449Z
UID:4559-1767895200-1767898800@mpnagreen.org
SUMMARY:No-Cost ZUMBA Class/ Clase gratuita de Zumba
DESCRIPTION:Find your Zumba community at… \nMadison Elementary School Library | Enter through Gate 4 on Hobart St. \nClass runs from: 6:00 – 7:00 PM \nWhy join us? \nZumba is a fun\, high-energy dance workout that helps you:\n1. Boost your heart health\n2. Improve mood and energy\n3. Build community\n4. Reduce stress \nWho can attend?\nYou must be 18 or older; no childcare is offered at this time. Bring water and wear comfy shoes. \nQuestions?\nContact: Health Equity Coordinator\nEmail: healthequitycoordinator@mpnagreen.org\nPhone: (714) 623-7843 \n \n\nEncuentra tu comunidad Zumba en… \nLa Biblioteca de la escuela Primaria Madison | Ingrese por la Puerta 4 en la calle Hobart. \nLa clase dura desde: 6:00 – 7:00 PM \n¿Por qué unirse a nosotros? \nZumba es un entrenamiento divertido y lleno de energía que te ayuda a:\n1. Mejorar tu salud del corazón\n2. Elevar el estado de ánimo y la energía\n3. Conectarte con la comunidad\n4. Reducir el estrés \n ¿Quién puede asistir?\nDebes ser mayor de 18 años; no se ofrece servicio de guardería en este momento. Lleve agua y calzado cómodo. \n ¿Preguntas?\nContacto: Coordinadora de Equidad en Salud\nCorreo: healthequitycoordinator@mpnagreen.org\nTeléfono: (714) 623-7843
URL:https://mpnagreen.org/event/no-cost-zumba-class-clase-gratuita-de-zumba-27/
LOCATION:Madison Elementary School\, 1124 East Hobart Street\, Santa Ana\, CA\, 92707\, United States
END:VEVENT
BEGIN:VEVENT
DTSTART;TZID=America/Los_Angeles:20260113T180000
DTEND;TZID=America/Los_Angeles:20260113T190000
DTSTAMP:20260425T114401
CREATED:20250617T235521Z
LAST-MODIFIED:20250617T235521Z
UID:4561-1768327200-1768330800@mpnagreen.org
SUMMARY:No-Cost ZUMBA Class/ Clase gratuita de Zumba
DESCRIPTION:Find your Zumba community at… \nMadison Elementary School Library | Enter through Gate 4 on Hobart St. \nClass runs from: 6:00 – 7:00 PM \nWhy join us? \nZumba is a fun\, high-energy dance workout that helps you:\n1. Boost your heart health\n2. Improve mood and energy\n3. Build community\n4. Reduce stress \nWho can attend?\nYou must be 18 or older; no childcare is offered at this time. Bring water and wear comfy shoes. \nQuestions?\nContact: Health Equity Coordinator\nEmail: healthequitycoordinator@mpnagreen.org\nPhone: (714) 623-7843 \n \n\nEncuentra tu comunidad Zumba en… \nLa Biblioteca de la escuela Primaria Madison | Ingrese por la Puerta 4 en la calle Hobart. \nLa clase dura desde: 6:00 – 7:00 PM \n¿Por qué unirse a nosotros? \nZumba es un entrenamiento divertido y lleno de energía que te ayuda a:\n1. Mejorar tu salud del corazón\n2. Elevar el estado de ánimo y la energía\n3. Conectarte con la comunidad\n4. Reducir el estrés \n ¿Quién puede asistir?\nDebes ser mayor de 18 años; no se ofrece servicio de guardería en este momento. Lleve agua y calzado cómodo. \n ¿Preguntas?\nContacto: Coordinadora de Equidad en Salud\nCorreo: healthequitycoordinator@mpnagreen.org\nTeléfono: (714) 623-7843
URL:https://mpnagreen.org/event/no-cost-zumba-class-clase-gratuita-de-zumba-28/
LOCATION:Madison Elementary School\, 1124 East Hobart Street\, Santa Ana\, CA\, 92707\, United States
END:VEVENT
BEGIN:VEVENT
DTSTART;TZID=America/Los_Angeles:20260115T180000
DTEND;TZID=America/Los_Angeles:20260115T190000
DTSTAMP:20260425T114401
CREATED:20250617T235540Z
LAST-MODIFIED:20250617T235540Z
UID:4563-1768500000-1768503600@mpnagreen.org
SUMMARY:No-Cost ZUMBA Class/ Clase gratuita de Zumba
DESCRIPTION:Find your Zumba community at… \nMadison Elementary School Library | Enter through Gate 4 on Hobart St. \nClass runs from: 6:00 – 7:00 PM \nWhy join us? \nZumba is a fun\, high-energy dance workout that helps you:\n1. Boost your heart health\n2. Improve mood and energy\n3. Build community\n4. Reduce stress \nWho can attend?\nYou must be 18 or older; no childcare is offered at this time. Bring water and wear comfy shoes. \nQuestions?\nContact: Health Equity Coordinator\nEmail: healthequitycoordinator@mpnagreen.org\nPhone: (714) 623-7843 \n \n\nEncuentra tu comunidad Zumba en… \nLa Biblioteca de la escuela Primaria Madison | Ingrese por la Puerta 4 en la calle Hobart. \nLa clase dura desde: 6:00 – 7:00 PM \n¿Por qué unirse a nosotros? \nZumba es un entrenamiento divertido y lleno de energía que te ayuda a:\n1. Mejorar tu salud del corazón\n2. Elevar el estado de ánimo y la energía\n3. Conectarte con la comunidad\n4. Reducir el estrés \n ¿Quién puede asistir?\nDebes ser mayor de 18 años; no se ofrece servicio de guardería en este momento. Lleve agua y calzado cómodo. \n ¿Preguntas?\nContacto: Coordinadora de Equidad en Salud\nCorreo: healthequitycoordinator@mpnagreen.org\nTeléfono: (714) 623-7843
URL:https://mpnagreen.org/event/no-cost-zumba-class-clase-gratuita-de-zumba-29/
LOCATION:Madison Elementary School\, 1124 East Hobart Street\, Santa Ana\, CA\, 92707\, United States
END:VEVENT
BEGIN:VEVENT
DTSTART;TZID=America/Los_Angeles:20260120T180000
DTEND;TZID=America/Los_Angeles:20260120T190000
DTSTAMP:20260425T114401
CREATED:20250617T235607Z
LAST-MODIFIED:20250617T235607Z
UID:4565-1768932000-1768935600@mpnagreen.org
SUMMARY:No-Cost ZUMBA Class/ Clase gratuita de Zumba
DESCRIPTION:Find your Zumba community at… \nMadison Elementary School Library | Enter through Gate 4 on Hobart St. \nClass runs from: 6:00 – 7:00 PM \nWhy join us? \nZumba is a fun\, high-energy dance workout that helps you:\n1. Boost your heart health\n2. Improve mood and energy\n3. Build community\n4. Reduce stress \nWho can attend?\nYou must be 18 or older; no childcare is offered at this time. Bring water and wear comfy shoes. \nQuestions?\nContact: Health Equity Coordinator\nEmail: healthequitycoordinator@mpnagreen.org\nPhone: (714) 623-7843 \n \n\nEncuentra tu comunidad Zumba en… \nLa Biblioteca de la escuela Primaria Madison | Ingrese por la Puerta 4 en la calle Hobart. \nLa clase dura desde: 6:00 – 7:00 PM \n¿Por qué unirse a nosotros? \nZumba es un entrenamiento divertido y lleno de energía que te ayuda a:\n1. Mejorar tu salud del corazón\n2. Elevar el estado de ánimo y la energía\n3. Conectarte con la comunidad\n4. Reducir el estrés \n ¿Quién puede asistir?\nDebes ser mayor de 18 años; no se ofrece servicio de guardería en este momento. Lleve agua y calzado cómodo. \n ¿Preguntas?\nContacto: Coordinadora de Equidad en Salud\nCorreo: healthequitycoordinator@mpnagreen.org\nTeléfono: (714) 623-7843
URL:https://mpnagreen.org/event/no-cost-zumba-class-clase-gratuita-de-zumba-30/
LOCATION:Madison Elementary School\, 1124 East Hobart Street\, Santa Ana\, CA\, 92707\, United States
END:VEVENT
BEGIN:VEVENT
DTSTART;TZID=America/Los_Angeles:20260122T180000
DTEND;TZID=America/Los_Angeles:20260122T190000
DTSTAMP:20260425T114401
CREATED:20250617T235622Z
LAST-MODIFIED:20250617T235622Z
UID:4567-1769104800-1769108400@mpnagreen.org
SUMMARY:No-Cost ZUMBA Class/ Clase gratuita de Zumba
DESCRIPTION:Find your Zumba community at… \nMadison Elementary School Library | Enter through Gate 4 on Hobart St. \nClass runs from: 6:00 – 7:00 PM \nWhy join us? \nZumba is a fun\, high-energy dance workout that helps you:\n1. Boost your heart health\n2. Improve mood and energy\n3. Build community\n4. Reduce stress \nWho can attend?\nYou must be 18 or older; no childcare is offered at this time. Bring water and wear comfy shoes. \nQuestions?\nContact: Health Equity Coordinator\nEmail: healthequitycoordinator@mpnagreen.org\nPhone: (714) 623-7843 \n \n\nEncuentra tu comunidad Zumba en… \nLa Biblioteca de la escuela Primaria Madison | Ingrese por la Puerta 4 en la calle Hobart. \nLa clase dura desde: 6:00 – 7:00 PM \n¿Por qué unirse a nosotros? \nZumba es un entrenamiento divertido y lleno de energía que te ayuda a:\n1. Mejorar tu salud del corazón\n2. Elevar el estado de ánimo y la energía\n3. Conectarte con la comunidad\n4. Reducir el estrés \n ¿Quién puede asistir?\nDebes ser mayor de 18 años; no se ofrece servicio de guardería en este momento. Lleve agua y calzado cómodo. \n ¿Preguntas?\nContacto: Coordinadora de Equidad en Salud\nCorreo: healthequitycoordinator@mpnagreen.org\nTeléfono: (714) 623-7843
URL:https://mpnagreen.org/event/no-cost-zumba-class-clase-gratuita-de-zumba-31/
LOCATION:Madison Elementary School\, 1124 East Hobart Street\, Santa Ana\, CA\, 92707\, United States
END:VEVENT
BEGIN:VEVENT
DTSTART;TZID=America/Los_Angeles:20260127T180000
DTEND;TZID=America/Los_Angeles:20260127T190000
DTSTAMP:20260425T114401
CREATED:20250617T235642Z
LAST-MODIFIED:20250617T235642Z
UID:4569-1769536800-1769540400@mpnagreen.org
SUMMARY:No-Cost ZUMBA Class/ Clase gratuita de Zumba
DESCRIPTION:Find your Zumba community at… \nMadison Elementary School Library | Enter through Gate 4 on Hobart St. \nClass runs from: 6:00 – 7:00 PM \nWhy join us? \nZumba is a fun\, high-energy dance workout that helps you:\n1. Boost your heart health\n2. Improve mood and energy\n3. Build community\n4. Reduce stress \nWho can attend?\nYou must be 18 or older; no childcare is offered at this time. Bring water and wear comfy shoes. \nQuestions?\nContact: Health Equity Coordinator\nEmail: healthequitycoordinator@mpnagreen.org\nPhone: (714) 623-7843 \n \n\nEncuentra tu comunidad Zumba en… \nLa Biblioteca de la escuela Primaria Madison | Ingrese por la Puerta 4 en la calle Hobart. \nLa clase dura desde: 6:00 – 7:00 PM \n¿Por qué unirse a nosotros? \nZumba es un entrenamiento divertido y lleno de energía que te ayuda a:\n1. Mejorar tu salud del corazón\n2. Elevar el estado de ánimo y la energía\n3. Conectarte con la comunidad\n4. Reducir el estrés \n ¿Quién puede asistir?\nDebes ser mayor de 18 años; no se ofrece servicio de guardería en este momento. Lleve agua y calzado cómodo. \n ¿Preguntas?\nContacto: Coordinadora de Equidad en Salud\nCorreo: healthequitycoordinator@mpnagreen.org\nTeléfono: (714) 623-7843
URL:https://mpnagreen.org/event/no-cost-zumba-class-clase-gratuita-de-zumba-32/
LOCATION:Madison Elementary School\, 1124 East Hobart Street\, Santa Ana\, CA\, 92707\, United States
END:VEVENT
BEGIN:VEVENT
DTSTART;TZID=America/Los_Angeles:20260129T180000
DTEND;TZID=America/Los_Angeles:20260129T190000
DTSTAMP:20260425T114401
CREATED:20250617T235702Z
LAST-MODIFIED:20250617T235702Z
UID:4571-1769709600-1769713200@mpnagreen.org
SUMMARY:No-Cost ZUMBA Class/ Clase gratuita de Zumba
DESCRIPTION:Find your Zumba community at… \nMadison Elementary School Library | Enter through Gate 4 on Hobart St. \nClass runs from: 6:00 – 7:00 PM \nWhy join us? \nZumba is a fun\, high-energy dance workout that helps you:\n1. Boost your heart health\n2. Improve mood and energy\n3. Build community\n4. Reduce stress \nWho can attend?\nYou must be 18 or older; no childcare is offered at this time. Bring water and wear comfy shoes. \nQuestions?\nContact: Health Equity Coordinator\nEmail: healthequitycoordinator@mpnagreen.org\nPhone: (714) 623-7843 \n \n\nEncuentra tu comunidad Zumba en… \nLa Biblioteca de la escuela Primaria Madison | Ingrese por la Puerta 4 en la calle Hobart. \nLa clase dura desde: 6:00 – 7:00 PM \n¿Por qué unirse a nosotros? \nZumba es un entrenamiento divertido y lleno de energía que te ayuda a:\n1. Mejorar tu salud del corazón\n2. Elevar el estado de ánimo y la energía\n3. Conectarte con la comunidad\n4. Reducir el estrés \n ¿Quién puede asistir?\nDebes ser mayor de 18 años; no se ofrece servicio de guardería en este momento. Lleve agua y calzado cómodo. \n ¿Preguntas?\nContacto: Coordinadora de Equidad en Salud\nCorreo: healthequitycoordinator@mpnagreen.org\nTeléfono: (714) 623-7843
URL:https://mpnagreen.org/event/no-cost-zumba-class-clase-gratuita-de-zumba-33/
LOCATION:Madison Elementary School\, 1124 East Hobart Street\, Santa Ana\, CA\, 92707\, United States
END:VEVENT
END:VCALENDAR