BEGIN:VCALENDAR
VERSION:2.0
PRODID:-//MPNA Green - ECPv6.15.18//NONSGML v1.0//EN
CALSCALE:GREGORIAN
METHOD:PUBLISH
X-ORIGINAL-URL:https://mpnagreen.org
X-WR-CALDESC:Events for MPNA Green
REFRESH-INTERVAL;VALUE=DURATION:PT1H
X-Robots-Tag:noindex
X-PUBLISHED-TTL:PT1H
BEGIN:VTIMEZONE
TZID:America/Los_Angeles
BEGIN:DAYLIGHT
TZOFFSETFROM:-0800
TZOFFSETTO:-0700
TZNAME:PDT
DTSTART:20240310T100000
END:DAYLIGHT
BEGIN:STANDARD
TZOFFSETFROM:-0700
TZOFFSETTO:-0800
TZNAME:PST
DTSTART:20241103T090000
END:STANDARD
BEGIN:DAYLIGHT
TZOFFSETFROM:-0800
TZOFFSETTO:-0700
TZNAME:PDT
DTSTART:20250309T100000
END:DAYLIGHT
BEGIN:STANDARD
TZOFFSETFROM:-0700
TZOFFSETTO:-0800
TZNAME:PST
DTSTART:20251102T090000
END:STANDARD
BEGIN:DAYLIGHT
TZOFFSETFROM:-0800
TZOFFSETTO:-0700
TZNAME:PDT
DTSTART:20260308T100000
END:DAYLIGHT
BEGIN:STANDARD
TZOFFSETFROM:-0700
TZOFFSETTO:-0800
TZNAME:PST
DTSTART:20261101T090000
END:STANDARD
END:VTIMEZONE
BEGIN:VEVENT
DTSTART;TZID=America/Los_Angeles:20250909T180000
DTEND;TZID=America/Los_Angeles:20250909T190000
DTSTAMP:20260425T175257
CREATED:20250617T220258Z
LAST-MODIFIED:20250617T221723Z
UID:4493-1757440800-1757444400@mpnagreen.org
SUMMARY:No-Cost ZUMBA Class/ Clase gratuita de Zumba
DESCRIPTION:Find your Zumba community at… \nMadison Elementary School Library | Enter through Gate 4 on Hobart St. \nClass runs from: 6:00 – 7:00 PM \nWhy join us? \nZumba is a fun\, high-energy dance workout that helps you:\n1. Boost your heart health\n2. Improve mood and energy\n3. Build community\n4. Reduce stress \nWho can attend?\nYou must be 18 or older; no childcare is offered at this time. Bring water and wear comfy shoes. \nQuestions?\nContact: Health Equity Coordinator\nEmail: healthequitycoordinator@mpnagreen.org\nPhone: (714) 623-7843 \n \n\nEncuentra tu comunidad Zumba en… \nLa Biblioteca de la escuela Primaria Madison | Ingrese por la Puerta 4 en la calle Hobart. \nLa clase dura desde: 6:00 – 7:00 PM \n¿Por qué unirse a nosotros? \nZumba es un entrenamiento divertido y lleno de energía que te ayuda a:\n1. Mejorar tu salud del corazón\n2. Elevar el estado de ánimo y la energía\n3. Conectarte con la comunidad\n4. Reducir el estrés \n ¿Quién puede asistir?\nDebes ser mayor de 18 años; no se ofrece servicio de guardería en este momento. Lleve agua y calzado cómodo. \n ¿Preguntas?\nContacto: Coordinadora de Equidad en Salud\nCorreo: healthequitycoordinator@mpnagreen.org\nTeléfono: (714) 623-7843
URL:https://mpnagreen.org/event/no-cost-zumba-class-clase-gratuita-de-zumba/
LOCATION:Madison Elementary School\, 1124 East Hobart Street\, Santa Ana\, CA\, 92707\, United States
END:VEVENT
BEGIN:VEVENT
DTSTART;TZID=America/Los_Angeles:20250910T180000
DTEND;TZID=America/Los_Angeles:20250910T193000
DTSTAMP:20260425T175257
CREATED:20250625T180013Z
LAST-MODIFIED:20250908T222416Z
UID:4642-1757527200-1757532600@mpnagreen.org
SUMMARY:Cancelled/ Cancelado- Una Hora Con La Doctora | One Hour with the Doctor
DESCRIPTION:CANCELLED: Please join us October 8 for our next class. \nHealth is found in Community. Join yours today:\nUna Hora Con La Doctora is a part of the Wellness Wednesday Workshops\, a no-cost program facilitated by a UCI Prime LC student and Dr. Sarah Lopez in collaboration with GREEN-MPNA’s Health Equity Program. It covers a range of topics designed to promote physical wellness in the community’s health equity needs\, including diabetes management\, colon health\, and navigating mental healthcare. \nDate/ Time: Wednesday | |6:00 PM – 7:30 PM\nLocated: Madison Elementary Library – 1124 Hobart St.\, Santa Ana\, CA\nZoom Meeting ID: 930 6814 1944 | Password: GREEN-MPNA \n📞 Questions? Contact: (714) 623-7843 or healthequitycoordinator@mpnagreen.org\n📸 Follow us on Instagram: @green.mpna \nOur Health. Our Community. Our Future. \n         \n\nCANCELADO: Acompañenos el 8 de octubre para nuestra próxima clase.\nLa salud se encuentra en la Comunidad. Únete a la tuya hoy:\nUna Hora Con La Doctora es parte de los Talleres de Miércoles de Bienestar\, un programa sin costo facilitado por estudiantes de UCI Prime LC y la Dra. Sarah López en colaboración con el Programa de Equidad en Salud de GREEN-MPNA. Cubre una gama de temas diseñados para promover el bienestar físico en las necesidades de equidad de salud de la comunidad\, incluyendo el manejo de la diabetes\, la salud del colon\, y la navegación de la salud mental. \nFecha/ Hora: Miércoles | 6:00 PM – 7:30 PM\nUbicado en: Biblioteca Primaria Madison – 1124 Hobart St.\, Santa Ana\, CA\nZoom Reunión ID: 930 6814 1944 | Contraseña: VERDE-MPNA \n¿Preguntas? Póngase en contacto con: (714) 623-7843 o healthequitycoordinator@mpnagreen.org\n📸 Síguenos en Instagram: @green.mpna \nNuestra salud. Nuestra comunidad. Nuestro futuro. \n         
URL:https://mpnagreen.org/event/una-hora-con-la-doctora-one-hour-with-the-doctor/
LOCATION:Madison Elementary School\, 1124 East Hobart Street\, Santa Ana\, CA\, 92707\, United States
END:VEVENT
BEGIN:VEVENT
DTSTART;TZID=America/Los_Angeles:20250911T180000
DTEND;TZID=America/Los_Angeles:20250911T190000
DTSTAMP:20260425T175257
CREATED:20250617T220747Z
LAST-MODIFIED:20250617T221831Z
UID:4501-1757613600-1757617200@mpnagreen.org
SUMMARY:No-Cost ZUMBA Class/ Clase gratuita de Zumba
DESCRIPTION:Find your Zumba community at… \nMadison Elementary School Library | Enter through Gate 4 on Hobart St. \nClass runs from: 6:00 – 7:00 PM \nWhy join us? \nZumba is a fun\, high-energy dance workout that helps you:\n1. Boost your heart health\n2. Improve mood and energy\n3. Build community\n4. Reduce stress \nWho can attend?\nYou must be 18 or older; no childcare is offered at this time. Bring water and wear comfy shoes. \nQuestions?\nContact: Health Equity Coordinator\nEmail: healthequitycoordinator@mpnagreen.org\nPhone: (714) 623-7843 \n \n\nEncuentra tu comunidad Zumba en… \nLa Biblioteca de la escuela Primaria Madison | Ingrese por la Puerta 4 en la calle Hobart. \nLa clase dura desde: 6:00 – 7:00 PM \n¿Por qué unirse a nosotros? \nZumba es un entrenamiento divertido y lleno de energía que te ayuda a:\n1. Mejorar tu salud del corazón\n2. Elevar el estado de ánimo y la energía\n3. Conectarte con la comunidad\n4. Reducir el estrés \n ¿Quién puede asistir?\nDebes ser mayor de 18 años; no se ofrece servicio de guardería en este momento. Lleve agua y calzado cómodo. \n ¿Preguntas?\nContacto: Coordinadora de Equidad en Salud\nCorreo: healthequitycoordinator@mpnagreen.org\nTeléfono: (714) 623-7843
URL:https://mpnagreen.org/event/no-cost-zumba-class-clase-gratuita-de-zumba-2/
LOCATION:Madison Elementary School\, 1124 East Hobart Street\, Santa Ana\, CA\, 92707\, United States
END:VEVENT
BEGIN:VEVENT
DTSTART;TZID=America/Los_Angeles:20250916T180000
DTEND;TZID=America/Los_Angeles:20250916T190000
DTSTAMP:20260425T175257
CREATED:20250617T222018Z
LAST-MODIFIED:20250617T222018Z
UID:4509-1758045600-1758049200@mpnagreen.org
SUMMARY:No-Cost ZUMBA Class/ Clase gratuita de Zumba
DESCRIPTION:Find your Zumba community at… \nMadison Elementary School Library | Enter through Gate 4 on Hobart St. \nClass runs from: 6:00 – 7:00 PM \nWhy join us? \nZumba is a fun\, high-energy dance workout that helps you:\n1. Boost your heart health\n2. Improve mood and energy\n3. Build community\n4. Reduce stress \nWho can attend?\nYou must be 18 or older; no childcare is offered at this time. Bring water and wear comfy shoes. \nQuestions?\nContact: Health Equity Coordinator\nEmail: healthequitycoordinator@mpnagreen.org\nPhone: (714) 623-7843 \n \n\nEncuentra tu comunidad Zumba en… \nLa Biblioteca de la escuela Primaria Madison | Ingrese por la Puerta 4 en la calle Hobart. \nLa clase dura desde: 6:00 – 7:00 PM \n¿Por qué unirse a nosotros? \nZumba es un entrenamiento divertido y lleno de energía que te ayuda a:\n1. Mejorar tu salud del corazón\n2. Elevar el estado de ánimo y la energía\n3. Conectarte con la comunidad\n4. Reducir el estrés \n ¿Quién puede asistir?\nDebes ser mayor de 18 años; no se ofrece servicio de guardería en este momento. Lleve agua y calzado cómodo. \n ¿Preguntas?\nContacto: Coordinadora de Equidad en Salud\nCorreo: healthequitycoordinator@mpnagreen.org\nTeléfono: (714) 623-7843
URL:https://mpnagreen.org/event/no-cost-zumba-class-clase-gratuita-de-zumba-3/
LOCATION:Madison Elementary School\, 1124 East Hobart Street\, Santa Ana\, CA\, 92707\, United States
END:VEVENT
BEGIN:VEVENT
DTSTART;TZID=America/Los_Angeles:20250918T180000
DTEND;TZID=America/Los_Angeles:20250918T190000
DTSTAMP:20260425T175257
CREATED:20250617T222145Z
LAST-MODIFIED:20250617T222145Z
UID:4513-1758218400-1758222000@mpnagreen.org
SUMMARY:No-Cost ZUMBA Class/ Clase gratuita de Zumba
DESCRIPTION:Find your Zumba community at… \nMadison Elementary School Library | Enter through Gate 4 on Hobart St. \nClass runs from: 6:00 – 7:00 PM \nWhy join us? \nZumba is a fun\, high-energy dance workout that helps you:\n1. Boost your heart health\n2. Improve mood and energy\n3. Build community\n4. Reduce stress \nWho can attend?\nYou must be 18 or older; no childcare is offered at this time. Bring water and wear comfy shoes. \nQuestions?\nContact: Health Equity Coordinator\nEmail: healthequitycoordinator@mpnagreen.org\nPhone: (714) 623-7843 \n \n\nEncuentra tu comunidad Zumba en… \nLa Biblioteca de la escuela Primaria Madison | Ingrese por la Puerta 4 en la calle Hobart. \nLa clase dura desde: 6:00 – 7:00 PM \n¿Por qué unirse a nosotros? \nZumba es un entrenamiento divertido y lleno de energía que te ayuda a:\n1. Mejorar tu salud del corazón\n2. Elevar el estado de ánimo y la energía\n3. Conectarte con la comunidad\n4. Reducir el estrés \n ¿Quién puede asistir?\nDebes ser mayor de 18 años; no se ofrece servicio de guardería en este momento. Lleve agua y calzado cómodo. \n ¿Preguntas?\nContacto: Coordinadora de Equidad en Salud\nCorreo: healthequitycoordinator@mpnagreen.org\nTeléfono: (714) 623-7843
URL:https://mpnagreen.org/event/no-cost-zumba-class-clase-gratuita-de-zumba-4/
LOCATION:Madison Elementary School\, 1124 East Hobart Street\, Santa Ana\, CA\, 92707\, United States
END:VEVENT
BEGIN:VEVENT
DTSTART;TZID=America/Los_Angeles:20250923T180000
DTEND;TZID=America/Los_Angeles:20250923T190000
DTSTAMP:20260425T175257
CREATED:20250617T222219Z
LAST-MODIFIED:20250617T222219Z
UID:4515-1758650400-1758654000@mpnagreen.org
SUMMARY:No-Cost ZUMBA Class/ Clase gratuita de Zumba
DESCRIPTION:Find your Zumba community at… \nMadison Elementary School Library | Enter through Gate 4 on Hobart St. \nClass runs from: 6:00 – 7:00 PM \nWhy join us? \nZumba is a fun\, high-energy dance workout that helps you:\n1. Boost your heart health\n2. Improve mood and energy\n3. Build community\n4. Reduce stress \nWho can attend?\nYou must be 18 or older; no childcare is offered at this time. Bring water and wear comfy shoes. \nQuestions?\nContact: Health Equity Coordinator\nEmail: healthequitycoordinator@mpnagreen.org\nPhone: (714) 623-7843 \n \n\nEncuentra tu comunidad Zumba en… \nLa Biblioteca de la escuela Primaria Madison | Ingrese por la Puerta 4 en la calle Hobart. \nLa clase dura desde: 6:00 – 7:00 PM \n¿Por qué unirse a nosotros? \nZumba es un entrenamiento divertido y lleno de energía que te ayuda a:\n1. Mejorar tu salud del corazón\n2. Elevar el estado de ánimo y la energía\n3. Conectarte con la comunidad\n4. Reducir el estrés \n ¿Quién puede asistir?\nDebes ser mayor de 18 años; no se ofrece servicio de guardería en este momento. Lleve agua y calzado cómodo. \n ¿Preguntas?\nContacto: Coordinadora de Equidad en Salud\nCorreo: healthequitycoordinator@mpnagreen.org\nTeléfono: (714) 623-7843
URL:https://mpnagreen.org/event/no-cost-zumba-class-clase-gratuita-de-zumba-5/
LOCATION:Madison Elementary School\, 1124 East Hobart Street\, Santa Ana\, CA\, 92707\, United States
END:VEVENT
BEGIN:VEVENT
DTSTART;TZID=America/Los_Angeles:20250924T180000
DTEND;TZID=America/Los_Angeles:20250924T193000
DTSTAMP:20260425T175257
CREATED:20250625T181529Z
LAST-MODIFIED:20250917T184439Z
UID:4662-1758736800-1758742200@mpnagreen.org
SUMMARY:Postponed to September 24-Salud Mental | Mental Health
DESCRIPTION:Previously Scheduled September 17th\nHealth is found in Community. Join yours today:\nSalud Mental\, or Mental Health\, is a key component of the Wellness Wednesday Workshops—a no-cost program led by a UCI PRIME-LC student and Dr. Celada-Dalton\, in partnership with GREEN-MPNA’s Health Equity Program.\nThe workshops cover a range of topics aimed at supporting mental well-being and advancing health equity in our community. Sessions include discussions on toxic stress\, seasonal depression\, and how to navigate the mental healthcare system. \nDate/ Time: Wednesday | |6:00 PM – 7:30 PM\nLocated: Madison Elementary Library – 1124 Hobart St.\, Santa Ana\, CA\nZoom Meeting ID: 930 6814 1944 | Password: GREEN-MPNA \n📞 Questions? Contact: (714) 805-8636 or healthequitycoordinator@mpnagreen.org\n📸 Follow us on Instagram: @green.mpna \nOur Health. Our Community. Our Future. \n \n  \n\nPreviamente programado para septiembre 17\nLa salud se encuentra en la Comunidad. Únete a la tuya hoy:\nSalud Mental\, o Salud Mental\, es un componente clave del Bienestar Miércoles Talleres-un programa gratuito dirigido por un estudiante de UCI PRIME-LC y el Dr. Celada-Dalton\, en colaboración con el Programa de Equidad en Salud de GREEN-MPNA.\nLos talleres cubren una gama de temas destinados a apoyar el bienestar mental y la promoción de la equidad en salud en nuestra comunidad. Las sesiones incluyen debates sobre el estrés tóxico\, la depresión estacional y cómo navegar por el sistema de salud mental. \nFecha/ Hora: Miércoles | 6:00 PM – 7:30 PM\nUbicado en: Biblioteca Primaria Madison – 1124 Hobart St.\, Santa Ana\, CA\nZoom Reunión ID: 930 6814 1944 | Contraseña: VERDE-MPNA \n¿Preguntas? Póngase en contacto con: (714) 805-8636 o healthequitycoordinator@mpnagreen.org\n📸 Síguenos en Instagram: @green.mpna \nNuestra salud. Nuestra comunidad. Nuestro futuro.
URL:https://mpnagreen.org/event/salud-mental-mental-health/
LOCATION:Madison Elementary School\, 1124 East Hobart Street\, Santa Ana\, CA\, 92707\, United States
CATEGORIES:Health Equity
END:VEVENT
BEGIN:VEVENT
DTSTART;TZID=America/Los_Angeles:20250925T180000
DTEND;TZID=America/Los_Angeles:20250925T190000
DTSTAMP:20260425T175257
CREATED:20250617T222241Z
LAST-MODIFIED:20250617T222241Z
UID:4517-1758823200-1758826800@mpnagreen.org
SUMMARY:No-Cost ZUMBA Class/ Clase gratuita de Zumba
DESCRIPTION:Find your Zumba community at… \nMadison Elementary School Library | Enter through Gate 4 on Hobart St. \nClass runs from: 6:00 – 7:00 PM \nWhy join us? \nZumba is a fun\, high-energy dance workout that helps you:\n1. Boost your heart health\n2. Improve mood and energy\n3. Build community\n4. Reduce stress \nWho can attend?\nYou must be 18 or older; no childcare is offered at this time. Bring water and wear comfy shoes. \nQuestions?\nContact: Health Equity Coordinator\nEmail: healthequitycoordinator@mpnagreen.org\nPhone: (714) 623-7843 \n \n\nEncuentra tu comunidad Zumba en… \nLa Biblioteca de la escuela Primaria Madison | Ingrese por la Puerta 4 en la calle Hobart. \nLa clase dura desde: 6:00 – 7:00 PM \n¿Por qué unirse a nosotros? \nZumba es un entrenamiento divertido y lleno de energía que te ayuda a:\n1. Mejorar tu salud del corazón\n2. Elevar el estado de ánimo y la energía\n3. Conectarte con la comunidad\n4. Reducir el estrés \n ¿Quién puede asistir?\nDebes ser mayor de 18 años; no se ofrece servicio de guardería en este momento. Lleve agua y calzado cómodo. \n ¿Preguntas?\nContacto: Coordinadora de Equidad en Salud\nCorreo: healthequitycoordinator@mpnagreen.org\nTeléfono: (714) 623-7843
URL:https://mpnagreen.org/event/no-cost-zumba-class-clase-gratuita-de-zumba-6/
LOCATION:Madison Elementary School\, 1124 East Hobart Street\, Santa Ana\, CA\, 92707\, United States
END:VEVENT
BEGIN:VEVENT
DTSTART;TZID=America/Los_Angeles:20250930T180000
DTEND;TZID=America/Los_Angeles:20250930T190000
DTSTAMP:20260425T175257
CREATED:20250617T222312Z
LAST-MODIFIED:20250617T222312Z
UID:4519-1759255200-1759258800@mpnagreen.org
SUMMARY:No-Cost ZUMBA Class/ Clase gratuita de Zumba
DESCRIPTION:Find your Zumba community at… \nMadison Elementary School Library | Enter through Gate 4 on Hobart St. \nClass runs from: 6:00 – 7:00 PM \nWhy join us? \nZumba is a fun\, high-energy dance workout that helps you:\n1. Boost your heart health\n2. Improve mood and energy\n3. Build community\n4. Reduce stress \nWho can attend?\nYou must be 18 or older; no childcare is offered at this time. Bring water and wear comfy shoes. \nQuestions?\nContact: Health Equity Coordinator\nEmail: healthequitycoordinator@mpnagreen.org\nPhone: (714) 623-7843 \n \n\nEncuentra tu comunidad Zumba en… \nLa Biblioteca de la escuela Primaria Madison | Ingrese por la Puerta 4 en la calle Hobart. \nLa clase dura desde: 6:00 – 7:00 PM \n¿Por qué unirse a nosotros? \nZumba es un entrenamiento divertido y lleno de energía que te ayuda a:\n1. Mejorar tu salud del corazón\n2. Elevar el estado de ánimo y la energía\n3. Conectarte con la comunidad\n4. Reducir el estrés \n ¿Quién puede asistir?\nDebes ser mayor de 18 años; no se ofrece servicio de guardería en este momento. Lleve agua y calzado cómodo. \n ¿Preguntas?\nContacto: Coordinadora de Equidad en Salud\nCorreo: healthequitycoordinator@mpnagreen.org\nTeléfono: (714) 623-7843
URL:https://mpnagreen.org/event/no-cost-zumba-class-clase-gratuita-de-zumba-7/
LOCATION:Madison Elementary School\, 1124 East Hobart Street\, Santa Ana\, CA\, 92707\, United States
END:VEVENT
END:VCALENDAR