BEGIN:VCALENDAR
VERSION:2.0
PRODID:-//MPNA Green - ECPv6.15.18//NONSGML v1.0//EN
CALSCALE:GREGORIAN
METHOD:PUBLISH
X-WR-CALNAME:MPNA Green
X-ORIGINAL-URL:https://mpnagreen.org
X-WR-CALDESC:Events for MPNA Green
REFRESH-INTERVAL;VALUE=DURATION:PT1H
X-Robots-Tag:noindex
X-PUBLISHED-TTL:PT1H
BEGIN:VTIMEZONE
TZID:America/Los_Angeles
BEGIN:DAYLIGHT
TZOFFSETFROM:-0800
TZOFFSETTO:-0700
TZNAME:PDT
DTSTART:20240310T100000
END:DAYLIGHT
BEGIN:STANDARD
TZOFFSETFROM:-0700
TZOFFSETTO:-0800
TZNAME:PST
DTSTART:20241103T090000
END:STANDARD
BEGIN:DAYLIGHT
TZOFFSETFROM:-0800
TZOFFSETTO:-0700
TZNAME:PDT
DTSTART:20250309T100000
END:DAYLIGHT
BEGIN:STANDARD
TZOFFSETFROM:-0700
TZOFFSETTO:-0800
TZNAME:PST
DTSTART:20251102T090000
END:STANDARD
BEGIN:DAYLIGHT
TZOFFSETFROM:-0800
TZOFFSETTO:-0700
TZNAME:PDT
DTSTART:20260308T100000
END:DAYLIGHT
BEGIN:STANDARD
TZOFFSETFROM:-0700
TZOFFSETTO:-0800
TZNAME:PST
DTSTART:20261101T090000
END:STANDARD
END:VTIMEZONE
BEGIN:VEVENT
DTSTART;TZID=America/Los_Angeles:20250814T173000
DTEND;TZID=America/Los_Angeles:20250814T193000
DTSTAMP:20260425T193109
CREATED:20250812T212049Z
LAST-MODIFIED:20250812T212518Z
UID:4791-1755192600-1755199800@mpnagreen.org
SUMMARY:Community Forum: Report Back/ Foro Comunitario: Informe a la Comunidad
DESCRIPTION:Join us for a Community Forum on our air monitoring study being conducted at 5 SAUSD schools. This will be a report back to the community\, where you have the opportunity to learn about what we are seeing in our air quality and how it could potentially be affecting the community’s health. Our partners from UCI and Sonoma Tech will be available to answer questions. \n\nAcompáñenos en un Foro Comunitario sobre nuestro estudio de monitoreo del aire que se lleva a cabo en cinco escuelas del SAUSD. Este será un informe para la comunidad\, donde tendrá la oportunidad de conocer lo que observamos en la calidad del aire y cómo podría estar afectando la salud de la comunidad. Nuestros colaboradores de UCI y Sonoma Tech estarán disponibles para responder preguntas.
URL:https://mpnagreen.org/event/community-forum-report-back/
LOCATION:Century High School\, 1401 S Grand Ave\, Santa Ana\, CA\, 92705\, United States
CATEGORIES:Community,Community Empowerment,Safe & Clean Environments
END:VEVENT
END:VCALENDAR