BEGIN:VCALENDAR
VERSION:2.0
PRODID:-//MPNA Green - ECPv6.15.18//NONSGML v1.0//EN
CALSCALE:GREGORIAN
METHOD:PUBLISH
X-ORIGINAL-URL:https://mpnagreen.org
X-WR-CALDESC:Events for MPNA Green
REFRESH-INTERVAL;VALUE=DURATION:PT1H
X-Robots-Tag:noindex
X-PUBLISHED-TTL:PT1H
BEGIN:VTIMEZONE
TZID:America/Los_Angeles
BEGIN:DAYLIGHT
TZOFFSETFROM:-0800
TZOFFSETTO:-0700
TZNAME:PDT
DTSTART:20250309T100000
END:DAYLIGHT
BEGIN:STANDARD
TZOFFSETFROM:-0700
TZOFFSETTO:-0800
TZNAME:PST
DTSTART:20251102T090000
END:STANDARD
BEGIN:DAYLIGHT
TZOFFSETFROM:-0800
TZOFFSETTO:-0700
TZNAME:PDT
DTSTART:20260308T100000
END:DAYLIGHT
BEGIN:STANDARD
TZOFFSETFROM:-0700
TZOFFSETTO:-0800
TZNAME:PST
DTSTART:20261101T090000
END:STANDARD
BEGIN:DAYLIGHT
TZOFFSETFROM:-0800
TZOFFSETTO:-0700
TZNAME:PDT
DTSTART:20270314T100000
END:DAYLIGHT
BEGIN:STANDARD
TZOFFSETFROM:-0700
TZOFFSETTO:-0800
TZNAME:PST
DTSTART:20271107T090000
END:STANDARD
END:VTIMEZONE
BEGIN:VEVENT
DTSTART;TZID=America/Los_Angeles:20260414T180000
DTEND;TZID=America/Los_Angeles:20260414T190000
DTSTAMP:20260425T134114
CREATED:20250618T000343Z
LAST-MODIFIED:20250618T000343Z
UID:4603-1776189600-1776193200@mpnagreen.org
SUMMARY:No-Cost ZUMBA Class/ Clase gratuita de Zumba
DESCRIPTION:Find your Zumba community at… \nMadison Elementary School Library | Enter through Gate 4 on Hobart St. \nClass runs from: 6:00 – 7:00 PM \nWhy join us? \nZumba is a fun\, high-energy dance workout that helps you:\n1. Boost your heart health\n2. Improve mood and energy\n3. Build community\n4. Reduce stress \nWho can attend?\nYou must be 18 or older; no childcare is offered at this time. Bring water and wear comfy shoes. \nQuestions?\nContact: Health Equity Coordinator\nEmail: healthequitycoordinator@mpnagreen.org\nPhone: (714) 623-7843 \n \n\nEncuentra tu comunidad Zumba en… \nLa Biblioteca de la escuela Primaria Madison | Ingrese por la Puerta 4 en la calle Hobart. \nLa clase dura desde: 6:00 – 7:00 PM \n¿Por qué unirse a nosotros? \nZumba es un entrenamiento divertido y lleno de energía que te ayuda a:\n1. Mejorar tu salud del corazón\n2. Elevar el estado de ánimo y la energía\n3. Conectarte con la comunidad\n4. Reducir el estrés \n ¿Quién puede asistir?\nDebes ser mayor de 18 años; no se ofrece servicio de guardería en este momento. Lleve agua y calzado cómodo. \n ¿Preguntas?\nContacto: Coordinadora de Equidad en Salud\nCorreo: healthequitycoordinator@mpnagreen.org\nTeléfono: (714) 623-7843
URL:https://mpnagreen.org/event/no-cost-zumba-class-clase-gratuita-de-zumba-49/
LOCATION:Madison Elementary School\, 1124 East Hobart Street\, Santa Ana\, CA\, 92707\, United States
END:VEVENT
BEGIN:VEVENT
DTSTART;TZID=America/Los_Angeles:20260415T180000
DTEND;TZID=America/Los_Angeles:20260415T193000
DTSTAMP:20260425T134114
CREATED:20250625T181834Z
LAST-MODIFIED:20260415T222330Z
UID:4674-1776276000-1776281400@mpnagreen.org
SUMMARY:POSTPONED Salud Mental | Mental Health
DESCRIPTION:POSTPONED TO MAY\nHealth is found in Community. Join yours today:\nSalud Mental\, or Mental Health\, is a key component of the Wellness Wednesday Workshops—a no-cost program led by a UCI PRIME-LC student and Dr. Celada-Dalton\, in partnership with GREEN-MPNA’s Health Equity Program.\nThe workshops cover a range of topics aimed at supporting mental well-being and advancing health equity in our community. Sessions include discussions on toxic stress\, seasonal depression\, and how to navigate the mental healthcare system. \nDate/ Time: Wednesday | |6:00 PM – 7:30 PM\nLocated: Madison Elementary Library – 1124 Hobart St.\, Santa Ana\, CA\nZoom Meeting ID: 930 6814 1944 | Password: GREEN-MPNA \n📞 Questions? Contact: (714) 623-7843 or healthequitycoordinator@mpnagreen.org\n📸 Follow us on Instagram: @green.mpna \nOur Health. Our Community. Our Future. \n         \n\nLa salud se encuentra en la Comunidad. Únete a la tuya hoy:\nSalud Mental\, o Salud Mental\, es un componente clave del Bienestar Miércoles Talleres-un programa gratuito dirigido por un estudiante de UCI PRIME-LC y el Dr. Celada-Dalton\, en colaboración con el Programa de Equidad en Salud de GREEN-MPNA.\nLos talleres cubren una gama de temas destinados a apoyar el bienestar mental y la promoción de la equidad en salud en nuestra comunidad. Las sesiones incluyen debates sobre el estrés tóxico\, la depresión estacional y cómo navegar por el sistema de salud mental. \nFecha/ Hora: Miércoles | 6:00 PM – 7:30 PM\nUbicado en: Biblioteca Primaria Madison – 1124 Hobart St.\, Santa Ana\, CA\nZoom Reunión ID: 930 6814 1944 | Contraseña: VERDE-MPNA \n¿Preguntas? Póngase en contacto con: (714) 623-7843 o healthequitycoordinator@mpnagreen.org\n📸 Síguenos en Instagram: @green.mpna \nNuestra salud. Nuestra comunidad. Nuestro futuro. \n         
URL:https://mpnagreen.org/event/salud-mental-mental-health-7/
LOCATION:Madison Elementary School\, 1124 East Hobart Street\, Santa Ana\, CA\, 92707\, United States
END:VEVENT
BEGIN:VEVENT
DTSTART;TZID=America/Los_Angeles:20260416T180000
DTEND;TZID=America/Los_Angeles:20260416T190000
DTSTAMP:20260425T134114
CREATED:20250618T000357Z
LAST-MODIFIED:20250618T000357Z
UID:4605-1776362400-1776366000@mpnagreen.org
SUMMARY:No-Cost ZUMBA Class/ Clase gratuita de Zumba
DESCRIPTION:Find your Zumba community at… \nMadison Elementary School Library | Enter through Gate 4 on Hobart St. \nClass runs from: 6:00 – 7:00 PM \nWhy join us? \nZumba is a fun\, high-energy dance workout that helps you:\n1. Boost your heart health\n2. Improve mood and energy\n3. Build community\n4. Reduce stress \nWho can attend?\nYou must be 18 or older; no childcare is offered at this time. Bring water and wear comfy shoes. \nQuestions?\nContact: Health Equity Coordinator\nEmail: healthequitycoordinator@mpnagreen.org\nPhone: (714) 623-7843 \n \n\nEncuentra tu comunidad Zumba en… \nLa Biblioteca de la escuela Primaria Madison | Ingrese por la Puerta 4 en la calle Hobart. \nLa clase dura desde: 6:00 – 7:00 PM \n¿Por qué unirse a nosotros? \nZumba es un entrenamiento divertido y lleno de energía que te ayuda a:\n1. Mejorar tu salud del corazón\n2. Elevar el estado de ánimo y la energía\n3. Conectarte con la comunidad\n4. Reducir el estrés \n ¿Quién puede asistir?\nDebes ser mayor de 18 años; no se ofrece servicio de guardería en este momento. Lleve agua y calzado cómodo. \n ¿Preguntas?\nContacto: Coordinadora de Equidad en Salud\nCorreo: healthequitycoordinator@mpnagreen.org\nTeléfono: (714) 623-7843
URL:https://mpnagreen.org/event/no-cost-zumba-class-clase-gratuita-de-zumba-50/
LOCATION:Madison Elementary School\, 1124 East Hobart Street\, Santa Ana\, CA\, 92707\, United States
END:VEVENT
BEGIN:VEVENT
DTSTART;TZID=America/Los_Angeles:20260421T180000
DTEND;TZID=America/Los_Angeles:20260421T190000
DTSTAMP:20260425T134114
CREATED:20250618T000621Z
LAST-MODIFIED:20250618T000621Z
UID:4607-1776794400-1776798000@mpnagreen.org
SUMMARY:No-Cost ZUMBA Class/ Clase gratuita de Zumba
DESCRIPTION:Find your Zumba community at… \nMadison Elementary School Library | Enter through Gate 4 on Hobart St. \nClass runs from: 6:00 – 7:00 PM \nWhy join us? \nZumba is a fun\, high-energy dance workout that helps you:\n1. Boost your heart health\n2. Improve mood and energy\n3. Build community\n4. Reduce stress \nWho can attend?\nYou must be 18 or older; no childcare is offered at this time. Bring water and wear comfy shoes. \nQuestions?\nContact: Health Equity Coordinator\nEmail: healthequitycoordinator@mpnagreen.org\nPhone: (714) 623-7843 \n \n\nEncuentra tu comunidad Zumba en… \nLa Biblioteca de la escuela Primaria Madison | Ingrese por la Puerta 4 en la calle Hobart. \nLa clase dura desde: 6:00 – 7:00 PM \n¿Por qué unirse a nosotros? \nZumba es un entrenamiento divertido y lleno de energía que te ayuda a:\n1. Mejorar tu salud del corazón\n2. Elevar el estado de ánimo y la energía\n3. Conectarte con la comunidad\n4. Reducir el estrés \n ¿Quién puede asistir?\nDebes ser mayor de 18 años; no se ofrece servicio de guardería en este momento. Lleve agua y calzado cómodo. \n ¿Preguntas?\nContacto: Coordinadora de Equidad en Salud\nCorreo: healthequitycoordinator@mpnagreen.org\nTeléfono: (714) 623-7843
URL:https://mpnagreen.org/event/no-cost-zumba-class-clase-gratuita-de-zumba-51/
LOCATION:Madison Elementary School\, 1124 East Hobart Street\, Santa Ana\, CA\, 92707\, United States
END:VEVENT
BEGIN:VEVENT
DTSTART;TZID=America/Los_Angeles:20260423T180000
DTEND;TZID=America/Los_Angeles:20260423T190000
DTSTAMP:20260425T134114
CREATED:20250618T000636Z
LAST-MODIFIED:20250618T000636Z
UID:4609-1776967200-1776970800@mpnagreen.org
SUMMARY:No-Cost ZUMBA Class/ Clase gratuita de Zumba
DESCRIPTION:Find your Zumba community at… \nMadison Elementary School Library | Enter through Gate 4 on Hobart St. \nClass runs from: 6:00 – 7:00 PM \nWhy join us? \nZumba is a fun\, high-energy dance workout that helps you:\n1. Boost your heart health\n2. Improve mood and energy\n3. Build community\n4. Reduce stress \nWho can attend?\nYou must be 18 or older; no childcare is offered at this time. Bring water and wear comfy shoes. \nQuestions?\nContact: Health Equity Coordinator\nEmail: healthequitycoordinator@mpnagreen.org\nPhone: (714) 623-7843 \n \n\nEncuentra tu comunidad Zumba en… \nLa Biblioteca de la escuela Primaria Madison | Ingrese por la Puerta 4 en la calle Hobart. \nLa clase dura desde: 6:00 – 7:00 PM \n¿Por qué unirse a nosotros? \nZumba es un entrenamiento divertido y lleno de energía que te ayuda a:\n1. Mejorar tu salud del corazón\n2. Elevar el estado de ánimo y la energía\n3. Conectarte con la comunidad\n4. Reducir el estrés \n ¿Quién puede asistir?\nDebes ser mayor de 18 años; no se ofrece servicio de guardería en este momento. Lleve agua y calzado cómodo. \n ¿Preguntas?\nContacto: Coordinadora de Equidad en Salud\nCorreo: healthequitycoordinator@mpnagreen.org\nTeléfono: (714) 623-7843
URL:https://mpnagreen.org/event/no-cost-zumba-class-clase-gratuita-de-zumba-52/
LOCATION:Madison Elementary School\, 1124 East Hobart Street\, Santa Ana\, CA\, 92707\, United States
END:VEVENT
BEGIN:VEVENT
DTSTART;TZID=America/Los_Angeles:20260428T180000
DTEND;TZID=America/Los_Angeles:20260428T190000
DTSTAMP:20260425T134114
CREATED:20250618T000707Z
LAST-MODIFIED:20250618T000707Z
UID:4611-1777399200-1777402800@mpnagreen.org
SUMMARY:No-Cost ZUMBA Class/ Clase gratuita de Zumba
DESCRIPTION:Find your Zumba community at… \nMadison Elementary School Library | Enter through Gate 4 on Hobart St. \nClass runs from: 6:00 – 7:00 PM \nWhy join us? \nZumba is a fun\, high-energy dance workout that helps you:\n1. Boost your heart health\n2. Improve mood and energy\n3. Build community\n4. Reduce stress \nWho can attend?\nYou must be 18 or older; no childcare is offered at this time. Bring water and wear comfy shoes. \nQuestions?\nContact: Health Equity Coordinator\nEmail: healthequitycoordinator@mpnagreen.org\nPhone: (714) 623-7843 \n \n\nEncuentra tu comunidad Zumba en… \nLa Biblioteca de la escuela Primaria Madison | Ingrese por la Puerta 4 en la calle Hobart. \nLa clase dura desde: 6:00 – 7:00 PM \n¿Por qué unirse a nosotros? \nZumba es un entrenamiento divertido y lleno de energía que te ayuda a:\n1. Mejorar tu salud del corazón\n2. Elevar el estado de ánimo y la energía\n3. Conectarte con la comunidad\n4. Reducir el estrés \n ¿Quién puede asistir?\nDebes ser mayor de 18 años; no se ofrece servicio de guardería en este momento. Lleve agua y calzado cómodo. \n ¿Preguntas?\nContacto: Coordinadora de Equidad en Salud\nCorreo: healthequitycoordinator@mpnagreen.org\nTeléfono: (714) 623-7843
URL:https://mpnagreen.org/event/no-cost-zumba-class-clase-gratuita-de-zumba-53/
LOCATION:Madison Elementary School\, 1124 East Hobart Street\, Santa Ana\, CA\, 92707\, United States
END:VEVENT
BEGIN:VEVENT
DTSTART;TZID=America/Los_Angeles:20260430T180000
DTEND;TZID=America/Los_Angeles:20260430T190000
DTSTAMP:20260425T134114
CREATED:20250618T000723Z
LAST-MODIFIED:20250618T000723Z
UID:4613-1777572000-1777575600@mpnagreen.org
SUMMARY:No-Cost ZUMBA Class/ Clase gratuita de Zumba
DESCRIPTION:Find your Zumba community at… \nMadison Elementary School Library | Enter through Gate 4 on Hobart St. \nClass runs from: 6:00 – 7:00 PM \nWhy join us? \nZumba is a fun\, high-energy dance workout that helps you:\n1. Boost your heart health\n2. Improve mood and energy\n3. Build community\n4. Reduce stress \nWho can attend?\nYou must be 18 or older; no childcare is offered at this time. Bring water and wear comfy shoes. \nQuestions?\nContact: Health Equity Coordinator\nEmail: healthequitycoordinator@mpnagreen.org\nPhone: (714) 623-7843 \n \n\nEncuentra tu comunidad Zumba en… \nLa Biblioteca de la escuela Primaria Madison | Ingrese por la Puerta 4 en la calle Hobart. \nLa clase dura desde: 6:00 – 7:00 PM \n¿Por qué unirse a nosotros? \nZumba es un entrenamiento divertido y lleno de energía que te ayuda a:\n1. Mejorar tu salud del corazón\n2. Elevar el estado de ánimo y la energía\n3. Conectarte con la comunidad\n4. Reducir el estrés \n ¿Quién puede asistir?\nDebes ser mayor de 18 años; no se ofrece servicio de guardería en este momento. Lleve agua y calzado cómodo. \n ¿Preguntas?\nContacto: Coordinadora de Equidad en Salud\nCorreo: healthequitycoordinator@mpnagreen.org\nTeléfono: (714) 623-7843
URL:https://mpnagreen.org/event/no-cost-zumba-class-clase-gratuita-de-zumba-54/
LOCATION:Madison Elementary School\, 1124 East Hobart Street\, Santa Ana\, CA\, 92707\, United States
END:VEVENT
BEGIN:VEVENT
DTSTART;TZID=America/Los_Angeles:20260505T180000
DTEND;TZID=America/Los_Angeles:20260505T190000
DTSTAMP:20260425T134114
CREATED:20250618T000751Z
LAST-MODIFIED:20250618T000751Z
UID:4615-1778004000-1778007600@mpnagreen.org
SUMMARY:No-Cost ZUMBA Class/ Clase gratuita de Zumba
DESCRIPTION:Find your Zumba community at… \nMadison Elementary School Library | Enter through Gate 4 on Hobart St. \nClass runs from: 6:00 – 7:00 PM \nWhy join us? \nZumba is a fun\, high-energy dance workout that helps you:\n1. Boost your heart health\n2. Improve mood and energy\n3. Build community\n4. Reduce stress \nWho can attend?\nYou must be 18 or older; no childcare is offered at this time. Bring water and wear comfy shoes. \nQuestions?\nContact: Health Equity Coordinator\nEmail: healthequitycoordinator@mpnagreen.org\nPhone: (714) 623-7843 \n \n\nEncuentra tu comunidad Zumba en… \nLa Biblioteca de la escuela Primaria Madison | Ingrese por la Puerta 4 en la calle Hobart. \nLa clase dura desde: 6:00 – 7:00 PM \n¿Por qué unirse a nosotros? \nZumba es un entrenamiento divertido y lleno de energía que te ayuda a:\n1. Mejorar tu salud del corazón\n2. Elevar el estado de ánimo y la energía\n3. Conectarte con la comunidad\n4. Reducir el estrés \n ¿Quién puede asistir?\nDebes ser mayor de 18 años; no se ofrece servicio de guardería en este momento. Lleve agua y calzado cómodo. \n ¿Preguntas?\nContacto: Coordinadora de Equidad en Salud\nCorreo: healthequitycoordinator@mpnagreen.org\nTeléfono: (714) 623-7843
URL:https://mpnagreen.org/event/no-cost-zumba-class-clase-gratuita-de-zumba-55/
LOCATION:Madison Elementary School\, 1124 East Hobart Street\, Santa Ana\, CA\, 92707\, United States
END:VEVENT
BEGIN:VEVENT
DTSTART;TZID=America/Los_Angeles:20260507T180000
DTEND;TZID=America/Los_Angeles:20260507T190000
DTSTAMP:20260425T134114
CREATED:20250618T000807Z
LAST-MODIFIED:20250618T000807Z
UID:4617-1778176800-1778180400@mpnagreen.org
SUMMARY:No-Cost ZUMBA Class/ Clase gratuita de Zumba
DESCRIPTION:Find your Zumba community at… \nMadison Elementary School Library | Enter through Gate 4 on Hobart St. \nClass runs from: 6:00 – 7:00 PM \nWhy join us? \nZumba is a fun\, high-energy dance workout that helps you:\n1. Boost your heart health\n2. Improve mood and energy\n3. Build community\n4. Reduce stress \nWho can attend?\nYou must be 18 or older; no childcare is offered at this time. Bring water and wear comfy shoes. \nQuestions?\nContact: Health Equity Coordinator\nEmail: healthequitycoordinator@mpnagreen.org\nPhone: (714) 623-7843 \n \n\nEncuentra tu comunidad Zumba en… \nLa Biblioteca de la escuela Primaria Madison | Ingrese por la Puerta 4 en la calle Hobart. \nLa clase dura desde: 6:00 – 7:00 PM \n¿Por qué unirse a nosotros? \nZumba es un entrenamiento divertido y lleno de energía que te ayuda a:\n1. Mejorar tu salud del corazón\n2. Elevar el estado de ánimo y la energía\n3. Conectarte con la comunidad\n4. Reducir el estrés \n ¿Quién puede asistir?\nDebes ser mayor de 18 años; no se ofrece servicio de guardería en este momento. Lleve agua y calzado cómodo. \n ¿Preguntas?\nContacto: Coordinadora de Equidad en Salud\nCorreo: healthequitycoordinator@mpnagreen.org\nTeléfono: (714) 623-7843
URL:https://mpnagreen.org/event/no-cost-zumba-class-clase-gratuita-de-zumba-56/
LOCATION:Madison Elementary School\, 1124 East Hobart Street\, Santa Ana\, CA\, 92707\, United States
END:VEVENT
BEGIN:VEVENT
DTSTART;TZID=America/Los_Angeles:20260512T180000
DTEND;TZID=America/Los_Angeles:20260512T190000
DTSTAMP:20260425T134114
CREATED:20250618T000828Z
LAST-MODIFIED:20250618T000828Z
UID:4619-1778608800-1778612400@mpnagreen.org
SUMMARY:No-Cost ZUMBA Class/ Clase gratuita de Zumba
DESCRIPTION:Find your Zumba community at… \nMadison Elementary School Library | Enter through Gate 4 on Hobart St. \nClass runs from: 6:00 – 7:00 PM \nWhy join us? \nZumba is a fun\, high-energy dance workout that helps you:\n1. Boost your heart health\n2. Improve mood and energy\n3. Build community\n4. Reduce stress \nWho can attend?\nYou must be 18 or older; no childcare is offered at this time. Bring water and wear comfy shoes. \nQuestions?\nContact: Health Equity Coordinator\nEmail: healthequitycoordinator@mpnagreen.org\nPhone: (714) 623-7843 \n \n\nEncuentra tu comunidad Zumba en… \nLa Biblioteca de la escuela Primaria Madison | Ingrese por la Puerta 4 en la calle Hobart. \nLa clase dura desde: 6:00 – 7:00 PM \n¿Por qué unirse a nosotros? \nZumba es un entrenamiento divertido y lleno de energía que te ayuda a:\n1. Mejorar tu salud del corazón\n2. Elevar el estado de ánimo y la energía\n3. Conectarte con la comunidad\n4. Reducir el estrés \n ¿Quién puede asistir?\nDebes ser mayor de 18 años; no se ofrece servicio de guardería en este momento. Lleve agua y calzado cómodo. \n ¿Preguntas?\nContacto: Coordinadora de Equidad en Salud\nCorreo: healthequitycoordinator@mpnagreen.org\nTeléfono: (714) 623-7843
URL:https://mpnagreen.org/event/no-cost-zumba-class-clase-gratuita-de-zumba-57/
LOCATION:Madison Elementary School\, 1124 East Hobart Street\, Santa Ana\, CA\, 92707\, United States
END:VEVENT
BEGIN:VEVENT
DTSTART;TZID=America/Los_Angeles:20260514T180000
DTEND;TZID=America/Los_Angeles:20260514T190000
DTSTAMP:20260425T134114
CREATED:20250618T000842Z
LAST-MODIFIED:20250618T000842Z
UID:4621-1778781600-1778785200@mpnagreen.org
SUMMARY:No-Cost ZUMBA Class/ Clase gratuita de Zumba
DESCRIPTION:Find your Zumba community at… \nMadison Elementary School Library | Enter through Gate 4 on Hobart St. \nClass runs from: 6:00 – 7:00 PM \nWhy join us? \nZumba is a fun\, high-energy dance workout that helps you:\n1. Boost your heart health\n2. Improve mood and energy\n3. Build community\n4. Reduce stress \nWho can attend?\nYou must be 18 or older; no childcare is offered at this time. Bring water and wear comfy shoes. \nQuestions?\nContact: Health Equity Coordinator\nEmail: healthequitycoordinator@mpnagreen.org\nPhone: (714) 623-7843 \n \n\nEncuentra tu comunidad Zumba en… \nLa Biblioteca de la escuela Primaria Madison | Ingrese por la Puerta 4 en la calle Hobart. \nLa clase dura desde: 6:00 – 7:00 PM \n¿Por qué unirse a nosotros? \nZumba es un entrenamiento divertido y lleno de energía que te ayuda a:\n1. Mejorar tu salud del corazón\n2. Elevar el estado de ánimo y la energía\n3. Conectarte con la comunidad\n4. Reducir el estrés \n ¿Quién puede asistir?\nDebes ser mayor de 18 años; no se ofrece servicio de guardería en este momento. Lleve agua y calzado cómodo. \n ¿Preguntas?\nContacto: Coordinadora de Equidad en Salud\nCorreo: healthequitycoordinator@mpnagreen.org\nTeléfono: (714) 623-7843
URL:https://mpnagreen.org/event/no-cost-zumba-class-clase-gratuita-de-zumba-58/
LOCATION:Madison Elementary School\, 1124 East Hobart Street\, Santa Ana\, CA\, 92707\, United States
END:VEVENT
END:VCALENDAR