BEGIN:VCALENDAR
VERSION:2.0
PRODID:-//MPNA Green - ECPv6.15.18//NONSGML v1.0//EN
CALSCALE:GREGORIAN
METHOD:PUBLISH
X-ORIGINAL-URL:https://mpnagreen.org
X-WR-CALDESC:Events for MPNA Green
REFRESH-INTERVAL;VALUE=DURATION:PT1H
X-Robots-Tag:noindex
X-PUBLISHED-TTL:PT1H
BEGIN:VTIMEZONE
TZID:America/Los_Angeles
BEGIN:DAYLIGHT
TZOFFSETFROM:-0800
TZOFFSETTO:-0700
TZNAME:PDT
DTSTART:20250309T100000
END:DAYLIGHT
BEGIN:STANDARD
TZOFFSETFROM:-0700
TZOFFSETTO:-0800
TZNAME:PST
DTSTART:20251102T090000
END:STANDARD
BEGIN:DAYLIGHT
TZOFFSETFROM:-0800
TZOFFSETTO:-0700
TZNAME:PDT
DTSTART:20260308T100000
END:DAYLIGHT
BEGIN:STANDARD
TZOFFSETFROM:-0700
TZOFFSETTO:-0800
TZNAME:PST
DTSTART:20261101T090000
END:STANDARD
BEGIN:DAYLIGHT
TZOFFSETFROM:-0800
TZOFFSETTO:-0700
TZNAME:PDT
DTSTART:20270314T100000
END:DAYLIGHT
BEGIN:STANDARD
TZOFFSETFROM:-0700
TZOFFSETTO:-0800
TZNAME:PST
DTSTART:20271107T090000
END:STANDARD
END:VTIMEZONE
BEGIN:VEVENT
DTSTART;TZID=America/Los_Angeles:20260325T180000
DTEND;TZID=America/Los_Angeles:20260325T193000
DTSTAMP:20260425T144626
CREATED:20260316T223656Z
LAST-MODIFIED:20260325T160825Z
UID:6406-1774461600-1774467000@mpnagreen.org
SUMMARY:Community Report Back / Informe a la Comunidad
DESCRIPTION:Join us! Our next community report back is coming up Wednesday\, March 25th. Come learn about the data we have been collecting at five different school sites throughout Santa Ana. If you’re interested in learning more about the environment work that GREEN-MPNA is doing\, this is a great opportunity to ask questions and learn how you can get involved. We look forward to seeing you there! \n \n  \n\n  \n¡Únete a nosotros! Nuestro próximo informe comunitario se llevará a cabo el miércoles 25 de marzo. Ven a conocer los datos que hemos estado recopilando en cinco diferentes escuelas en toda Santa Ana. Si estás interesado en aprender más sobre el trabajo ambiental que GREEN-MPNA está realizando\, esta es una gran oportunidad para hacer preguntas y aprender cómo puedes participar. ¡Esperamos verte allí! \n \n 
URL:https://mpnagreen.org/event/community-report-back/
CATEGORIES:Community,Community Empowerment,Safe & Clean Environments
END:VEVENT
END:VCALENDAR