BEGIN:VCALENDAR
VERSION:2.0
PRODID:-//MPNA Green - ECPv6.15.18//NONSGML v1.0//EN
CALSCALE:GREGORIAN
METHOD:PUBLISH
X-WR-CALNAME:MPNA Green
X-ORIGINAL-URL:https://mpnagreen.org
X-WR-CALDESC:Events for MPNA Green
REFRESH-INTERVAL;VALUE=DURATION:PT1H
X-Robots-Tag:noindex
X-PUBLISHED-TTL:PT1H
BEGIN:VTIMEZONE
TZID:America/Los_Angeles
BEGIN:DAYLIGHT
TZOFFSETFROM:-0800
TZOFFSETTO:-0700
TZNAME:PDT
DTSTART:20210314T100000
END:DAYLIGHT
BEGIN:STANDARD
TZOFFSETFROM:-0700
TZOFFSETTO:-0800
TZNAME:PST
DTSTART:20211107T090000
END:STANDARD
BEGIN:DAYLIGHT
TZOFFSETFROM:-0800
TZOFFSETTO:-0700
TZNAME:PDT
DTSTART:20220313T100000
END:DAYLIGHT
BEGIN:STANDARD
TZOFFSETFROM:-0700
TZOFFSETTO:-0800
TZNAME:PST
DTSTART:20221106T090000
END:STANDARD
BEGIN:DAYLIGHT
TZOFFSETFROM:-0800
TZOFFSETTO:-0700
TZNAME:PDT
DTSTART:20230312T100000
END:DAYLIGHT
BEGIN:STANDARD
TZOFFSETFROM:-0700
TZOFFSETTO:-0800
TZNAME:PST
DTSTART:20231105T090000
END:STANDARD
BEGIN:DAYLIGHT
TZOFFSETFROM:-0800
TZOFFSETTO:-0700
TZNAME:PDT
DTSTART:20240310T100000
END:DAYLIGHT
BEGIN:STANDARD
TZOFFSETFROM:-0700
TZOFFSETTO:-0800
TZNAME:PST
DTSTART:20241103T090000
END:STANDARD
END:VTIMEZONE
BEGIN:VEVENT
DTSTART;TZID=America/Los_Angeles:20230419T180000
DTEND;TZID=America/Los_Angeles:20230419T193000
DTSTAMP:20260425T211912
CREATED:20230328T221335Z
LAST-MODIFIED:20230328T221335Z
UID:2689-1681927200-1681932600@mpnagreen.org
SUMMARY:Wellness Wednesday: Mental Health
DESCRIPTION:El Programa de Bienestar de GREEN-MPNA presenta: Apoyando\nla Salud Mental\n3er miércoles de cada mes\n6-7:30 PM\n\n\nZOOM ID de reunión: 930 6814 1944 \nContraseña: GREEN-MPNA \n\n*****\nThe GREEN-MPNA Wellness Program returns with the class: Supporting Mental health\n3rd Wednesday of every month\n6-7:30 p.m\n\n\n\nZOOM ID de reunión: 930 6814 1944 \nContraseña: GREEN-MPNA
URL:https://mpnagreen.org/event/wellness-wednesday-mental-health/
LOCATION:CA
CATEGORIES:Community,Community Empowerment,Health Equity
END:VEVENT
BEGIN:VEVENT
DTSTART;TZID=America/Los_Angeles:20230419T180000
DTEND;TZID=America/Los_Angeles:20230419T193000
DTSTAMP:20260425T211912
CREATED:20230228T212150Z
LAST-MODIFIED:20230328T222102Z
UID:2692-1681927200-1681932600@mpnagreen.org
SUMMARY:Wellness Wednesday: Mental Health
DESCRIPTION:El Programa de Bienestar de GREEN-MPNA presenta: Apoyando\nla Salud Mental\n3er miércoles de cada mes\n6-7:30 PM\n\n\nZOOM ID de reunión: 930 6814 1944 \nContraseña: GREEN-MPNA \n\n*****\nThe GREEN-MPNA Wellness Program returns with the class: Supporting Mental health\n3rd Wednesday of every month\n6-7:30 p.m\n\n\n\nZOOM ID de reunión: 930 6814 1944 \nContraseña: GREEN-MPNA
URL:https://mpnagreen.org/event/wellness-wednesday-mental-health-2/
LOCATION:CA
CATEGORIES:Community,Community Empowerment,Health Equity
END:VEVENT
BEGIN:VEVENT
DTSTART;TZID=America/Los_Angeles:20230418T180000
DTEND;TZID=America/Los_Angeles:20230418T190000
DTSTAMP:20260425T211912
CREATED:20230301T214538Z
LAST-MODIFIED:20230309T230118Z
UID:2633-1681840800-1681844400@mpnagreen.org
SUMMARY:Zumba Class
DESCRIPTION:¡Prepárate para bailar con todo el corazón! ¡Las clases de Zumba empiezan en Madison (bibiloteca)! ¡Únete a nosotros para un entrenamiento divertido y lleno de energía que te hará sentir increíble! 💃🎉\n.\n.\n. \nGet ready to dance your heart out! Zumba classes are back at Madison (library). Join us for a fun and energetic workout that will leave you feeling amazing! 💃🎉
URL:https://mpnagreen.org/event/zumba-class-10/
LOCATION:Madison Elementary School\, 1124 East Hobart Street\, Santa Ana\, CA\, 92707\, United States
CATEGORIES:Community,Community Empowerment,Health Equity
END:VEVENT
BEGIN:VEVENT
DTSTART;TZID=America/Los_Angeles:20230415T090000
DTEND;TZID=America/Los_Angeles:20230415T100000
DTSTAMP:20260425T211912
CREATED:20230301T214214Z
LAST-MODIFIED:20230301T214434Z
UID:2630-1681549200-1681552800@mpnagreen.org
SUMMARY:Zumba Class
DESCRIPTION:¡Prepárate para bailar con todo el corazón! ¡Las clases de Zumba empiezan en Madison (bibiloteca)! ¡Únete a nosotros para un entrenamiento divertido y lleno de energía que te hará sentir increíble! 💃🎉\n.\n.\n. \nGet ready to dance your heart out! Zumba classes are back at Madison (library). Join us for a fun and energetic workout that will leave you feeling amazing! 💃🎉
URL:https://mpnagreen.org/event/zumba-class-9/
LOCATION:Madison Elementary School\, 1124 East Hobart Street\, Santa Ana\, CA\, 92707\, United States
CATEGORIES:Community,Community Empowerment,Health Equity
END:VEVENT
BEGIN:VEVENT
DTSTART;TZID=America/Los_Angeles:20230412T180000
DTEND;TZID=America/Los_Angeles:20230412T193000
DTSTAMP:20260425T211912
CREATED:20230328T221034Z
LAST-MODIFIED:20230328T221034Z
UID:2687-1681322400-1681327800@mpnagreen.org
SUMMARY:Wellness Wednesday: Una Hora Con La Doctora
DESCRIPTION:¡Únase a nosotros en persona en Madison Elementary o virtualmente en Zoom para nuestra charla mensual de Una hora con el médico para aprender sobre su salud! \nhttps://zoom.us/join \nZoom: 93068141994 \nPassword: GREEN-MPNA \n.\n. \nJoin us in-person at Madison Elementary or virtually on Zoom for our monthly One Hour with the Doctor talk to learn about your health!
URL:https://mpnagreen.org/event/wellness-wednesday-una-hora-con-la-doctora-3/
LOCATION:CA
CATEGORIES:Community,Community Empowerment,Health Equity
END:VEVENT
BEGIN:VEVENT
DTSTART;TZID=America/Los_Angeles:20230411T180000
DTEND;TZID=America/Los_Angeles:20230411T190000
DTSTAMP:20260425T211912
CREATED:20230301T214054Z
LAST-MODIFIED:20230328T221745Z
UID:2628-1681236000-1681239600@mpnagreen.org
SUMMARY:Zumba Class
DESCRIPTION:¡Prepárate para bailar con todo el corazón! ¡Las clases de Zumba empiezan en Madison (bibiloteca)! ¡Únete a nosotros para un entrenamiento divertido y lleno de energía que te hará sentir increíble! 💃🎉\n.\n.\n. \nGet ready to dance your heart out! Zumba classes are back at Madison (library). Join us for a fun and energetic workout that will leave you feeling amazing! 💃🎉
URL:https://mpnagreen.org/event/zumba-class-8/
LOCATION:Madison Elementary School\, 1124 East Hobart Street\, Santa Ana\, CA\, 92707\, United States
CATEGORIES:Community,Community Empowerment,Health Equity
END:VEVENT
BEGIN:VEVENT
DTSTART;TZID=America/Los_Angeles:20230405T180000
DTEND;TZID=America/Los_Angeles:20230405T193000
DTSTAMP:20260425T211912
CREATED:20230328T220742Z
LAST-MODIFIED:20230328T220742Z
UID:2682-1680717600-1680723000@mpnagreen.org
SUMMARY:Nutrition and Diabetes Cooking Class
DESCRIPTION:El Programa de Bienestar de GREEN-MPNA regresa con la clase de: Nutrición y Diabetes\nClase de cocina\nmiércoles\n6-7:30 PM\n\n\nZoom Meeting ID: 930 6814 1944 \nPassword:GREEN-MPNA \n\n*****\nThe GREEN-MPNA Wellness Program returns with the class of: Nutrition and Diabetes\ncooking class\nWednesday\,\n6-7:30 p.m\n\n\nZoom Meeting ID: 930 6814 1944 \nPassword:GREEN-MPNA
URL:https://mpnagreen.org/event/nutrition-and-diabetes-cooking-class/
LOCATION:CA
CATEGORIES:Community,Community Empowerment,Health Equity
END:VEVENT
BEGIN:VEVENT
DTSTART;TZID=America/Los_Angeles:20230328T180000
DTEND;TZID=America/Los_Angeles:20230328T190000
DTSTAMP:20260425T211912
CREATED:20230301T213357Z
LAST-MODIFIED:20230301T213357Z
UID:2620-1680026400-1680030000@mpnagreen.org
SUMMARY:Zumba Class
DESCRIPTION:¡Prepárate para bailar con todo el corazón! ¡Las clases de Zumba empiezan en Madison (bibiloteca)! ¡Únete a nosotros para un entrenamiento divertido y lleno de energía que te hará sentir increíble! 💃🎉\n.\n.\n. \nGet ready to dance your heart out! Zumba classes are back at Madison (library). Join us for a fun and energetic workout that will leave you feeling amazing! 💃🎉
URL:https://mpnagreen.org/event/zumba-class-4/
LOCATION:Madison Elementary School\, 1124 East Hobart Street\, Santa Ana\, CA\, 92707\, United States
CATEGORIES:Community,Community Empowerment,Health Equity
END:VEVENT
BEGIN:VEVENT
DTSTART;TZID=America/Los_Angeles:20230321T180000
DTEND;TZID=America/Los_Angeles:20230321T190000
DTSTAMP:20260425T211912
CREATED:20230301T213116Z
LAST-MODIFIED:20230301T213442Z
UID:2616-1679421600-1679425200@mpnagreen.org
SUMMARY:Zumba Class
DESCRIPTION:¡Prepárate para bailar con todo el corazón! ¡Las clases de Zumba empiezan en Madison (bibiloteca)! ¡Únete a nosotros para un entrenamiento divertido y lleno de energía que te hará sentir increíble! 💃🎉\n.\n.\n. \nGet ready to dance your heart out! Zumba classes are back at Madison (library). Join us for a fun and energetic workout that will leave you feeling amazing! 💃🎉
URL:https://mpnagreen.org/event/zumba-class-3/
LOCATION:Madison Elementary School\, 1124 East Hobart Street\, Santa Ana\, CA\, 92707\, United States
CATEGORIES:Community,Community Empowerment,Health Equity
END:VEVENT
BEGIN:VEVENT
DTSTART;TZID=America/Los_Angeles:20230318T090000
DTEND;TZID=America/Los_Angeles:20230318T100000
DTSTAMP:20260425T211912
CREATED:20230301T213928Z
LAST-MODIFIED:20230301T213928Z
UID:2626-1679130000-1679133600@mpnagreen.org
SUMMARY:Zumba Class
DESCRIPTION:¡Prepárate para bailar con todo el corazón! ¡Las clases de Zumba empiezan en Madison (bibiloteca)! ¡Únete a nosotros para un entrenamiento divertido y lleno de energía que te hará sentir increíble! 💃🎉\n.\n.\n. \nGet ready to dance your heart out! Zumba classes are back at Madison (library). Join us for a fun and energetic workout that will leave you feeling amazing! 💃🎉
URL:https://mpnagreen.org/event/zumba-class-7/
LOCATION:CA
CATEGORIES:Community,Community Empowerment,Health Equity
END:VEVENT
BEGIN:VEVENT
DTSTART;TZID=America/Los_Angeles:20230314T180000
DTEND;TZID=America/Los_Angeles:20230314T190000
DTSTAMP:20260425T211912
CREATED:20230301T212929Z
LAST-MODIFIED:20230301T213451Z
UID:2614-1678816800-1678820400@mpnagreen.org
SUMMARY:Zumba Class
DESCRIPTION:¡Prepárate para bailar con todo el corazón! ¡Las clases de Zumba empiezan en Madison (bibiloteca)! ¡Únete a nosotros para un entrenamiento divertido y lleno de energía que te hará sentir increíble! 💃🎉\n.\n.\n. \nGet ready to dance your heart out! Zumba classes are back at Madison (library). Join us for a fun and energetic workout that will leave you feeling amazing! 💃🎉
URL:https://mpnagreen.org/event/zumba-class-2/
LOCATION:Madison Elementary School\, 1124 East Hobart Street\, Santa Ana\, CA\, 92707\, United States
CATEGORIES:Community,Community Empowerment,Health Equity
END:VEVENT
BEGIN:VEVENT
DTSTART;TZID=America/Los_Angeles:20230311T090000
DTEND;TZID=America/Los_Angeles:20230311T100000
DTSTAMP:20260425T211912
CREATED:20230301T213748Z
LAST-MODIFIED:20230301T213748Z
UID:2624-1678525200-1678528800@mpnagreen.org
SUMMARY:Zumba Class
DESCRIPTION:¡Prepárate para bailar con todo el corazón! ¡Las clases de Zumba empiezan en Madison (bibiloteca)! ¡Únete a nosotros para un entrenamiento divertido y lleno de energía que te hará sentir increíble! 💃🎉\n.\n.\n. \nGet ready to dance your heart out! Zumba classes are back at Madison (library). Join us for a fun and energetic workout that will leave you feeling amazing! 💃🎉
URL:https://mpnagreen.org/event/zumba-class-6/
LOCATION:Madison Elementary School\, 1124 East Hobart Street\, Santa Ana\, CA\, 92707\, United States
CATEGORIES:Community,Community Empowerment,Health Equity
END:VEVENT
BEGIN:VEVENT
DTSTART;TZID=America/Los_Angeles:20230308T180000
DTEND;TZID=America/Los_Angeles:20230308T193000
DTSTAMP:20260425T211912
CREATED:20230310T001042Z
LAST-MODIFIED:20230310T002424Z
UID:2664-1678298400-1678303800@mpnagreen.org
SUMMARY:Wellness Wednesday: Una Hora Con La Doctora
DESCRIPTION:¡Únase a nosotros en persona en Madison Elementary o virtualmente en Zoom para nuestra charla mensual de Una hora con el médico para aprender sobre su salud! \nhttps://zoom.us/join \nZoom: 93068141994 \nPassword: GREEN-MPNA \n.\n. \nJoin us in-person at Madison Elementary or virtually on Zoom for our monthly One Hour with the Doctor talk to learn about your health!
URL:https://mpnagreen.org/event/wellness-wednesday-una-hora-con-la-doctora-2/
LOCATION:CA
CATEGORIES:Community,Community Empowerment,Health Equity
END:VEVENT
BEGIN:VEVENT
DTSTART;TZID=America/Los_Angeles:20230308T180000
DTEND;TZID=America/Los_Angeles:20230308T193000
DTSTAMP:20260425T211912
CREATED:20230309T225145Z
LAST-MODIFIED:20230309T230604Z
UID:2655-1678298400-1678303800@mpnagreen.org
SUMMARY:Wellness Wednesday: Una Hora Con La Doctora
DESCRIPTION:¡Únase a nosotros en persona en Madison Elementary o virtualmente en Zoom para nuestra charla mensual de Una hora con el médico para aprender sobre el sistema digestivo y cómo mantenerlo saludable! \nhttps://zoom.us/join \nZoom: 93068141994 \nPassword: GREEN-MPNA \n.\n. \nJoin us in-person at Madison Elementary or virtually on Zoom for our monthly One Hour with the Doctor talk to learn about the digestive system and how to keep it healthy!
URL:https://mpnagreen.org/event/una-hora-con-la-doctora/
LOCATION:CA
CATEGORIES:Community,Community Empowerment,Health Equity
END:VEVENT
BEGIN:VEVENT
DTSTART;TZID=America/Los_Angeles:20230307T180000
DTEND;TZID=America/Los_Angeles:20230307T190000
DTSTAMP:20260425T211912
CREATED:20230301T212204Z
LAST-MODIFIED:20230301T213310Z
UID:2595-1678212000-1678215600@mpnagreen.org
SUMMARY:Zumba Class
DESCRIPTION:¡Prepárate para bailar con todo el corazón! ¡Las clases de Zumba empiezan en Madison (bibiloteca)! ¡Únete a nosotros para un entrenamiento divertido y lleno de energía que te hará sentir increíble! 💃🎉\n.\n.\n. \nGet ready to dance your heart out! Zumba classes are back at Madison (library). Join us for a fun and energetic workout that will leave you feeling amazing! 💃🎉
URL:https://mpnagreen.org/event/zumba-class/
LOCATION:Madison Elementary School\, 1124 East Hobart Street\, Santa Ana\, CA\, 92707\, United States
CATEGORIES:Community,Community Empowerment,Health Equity
END:VEVENT
BEGIN:VEVENT
DTSTART;TZID=America/Los_Angeles:20230304T090000
DTEND;TZID=America/Los_Angeles:20230304T100000
DTSTAMP:20260425T211912
CREATED:20230301T213554Z
LAST-MODIFIED:20230301T213554Z
UID:2622-1677920400-1677924000@mpnagreen.org
SUMMARY:Zumba Class
DESCRIPTION:¡Prepárate para bailar con todo el corazón! ¡Las clases de Zumba empiezan en Madison (bibiloteca)! ¡Únete a nosotros para un entrenamiento divertido y lleno de energía que te hará sentir increíble! 💃🎉\n.\n.\n. \nGet ready to dance your heart out! Zumba classes are back at Madison (library). Join us for a fun and energetic workout that will leave you feeling amazing! 💃🎉
URL:https://mpnagreen.org/event/zumba-class-5/
LOCATION:Madison Elementary School\, 1124 East Hobart Street\, Santa Ana\, CA\, 92707\, United States
CATEGORIES:Community,Community Empowerment,Health Equity
END:VEVENT
BEGIN:VEVENT
DTSTART;TZID=America/Los_Angeles:20230301T180000
DTEND;TZID=America/Los_Angeles:20230301T193000
DTSTAMP:20260425T211912
CREATED:20230310T020013Z
LAST-MODIFIED:20230310T003245Z
UID:2671-1677693600-1677699000@mpnagreen.org
SUMMARY:Wednesday Wellness: Nutrition Class
DESCRIPTION:El Programa de Bienestar de GREEN-MPNA regresa con la clase de: Nutrición y Diabetes\nClase de cocina\nmiércoles\,\n6-7:30 PM\n¿Quieres participar?\nIngrese a la clase de Zoom \nhttps://zoom.us/join\n***** \nThe GREEN-MPNA Wellness Program returns with the class of: Nutrition and Diabetes\ncooking class\nWednesday\, February 1\, 2023\n6-7:30 p.m. m.\nDo you want to participate?\nJoin the Zoom class \nhttps://zoom.us/join
URL:https://mpnagreen.org/event/wednesday-wellness-nutrition-class-2/
LOCATION:CA
CATEGORIES:Community,Community Empowerment,Health Equity
END:VEVENT
BEGIN:VEVENT
DTSTART;TZID=America/Los_Angeles:20230301T180000
DTEND;TZID=America/Los_Angeles:20230301T193000
DTSTAMP:20260425T211912
CREATED:20230310T002958Z
LAST-MODIFIED:20230310T003110Z
UID:2669-1677693600-1677699000@mpnagreen.org
SUMMARY:Wednesday Wellness: Nutrition Class
DESCRIPTION:El Programa de Bienestar de GREEN-MPNA regresa con la clase de: Nutrición y Diabetes\nClase de cocina\nmiércoles\,\n6-7:30 PM\n¿Quieres participar?\nIngrese a la clase de Zoom \nhttps://zoom.us/join\n***** \nThe GREEN-MPNA Wellness Program returns with the class of: Nutrition and Diabetes\ncooking class\nWednesday\, February 1\, 2023\n6-7:30 p.m. m.\nDo you want to participate?\nJoin the Zoom class \nhttps://zoom.us/join
URL:https://mpnagreen.org/event/wednesday-wellness-nutrition-class/
LOCATION:CA
CATEGORIES:Community,Community Empowerment,Health Equity
END:VEVENT
BEGIN:VEVENT
DTSTART;TZID=America/Los_Angeles:20230201T180000
DTEND;TZID=America/Los_Angeles:20230201T193000
DTSTAMP:20260425T211912
CREATED:20230127T223423Z
LAST-MODIFIED:20230127T223423Z
UID:2556-1675274400-1675279800@mpnagreen.org
SUMMARY:Virtual Nutrition and Diabetes Cooking Class/ Nutrición y Diabetes: Clase de Cocina Virtual
DESCRIPTION:Flyer Feb 2023 Nutrition and Diabetes Class
URL:https://mpnagreen.org/event/virtual-nutrition-and-diabetes-cooking-class-nutricion-y-diabetes-clase-de-cocina-virtual/
LOCATION:CA
CATEGORIES:Health Equity
END:VEVENT
BEGIN:VEVENT
DTSTART;TZID=America/Los_Angeles:20230118T180000
DTEND;TZID=America/Los_Angeles:20230118T193000
DTSTAMP:20260425T211912
CREATED:20230105T220100Z
LAST-MODIFIED:20230105T220100Z
UID:2549-1674064800-1674070200@mpnagreen.org
SUMMARY:Wellness Wednesday: Apoyando la Salud Mental de Nuestros Menores Parte 2
DESCRIPTION:                                 
URL:https://mpnagreen.org/event/wellness-wednesday-apoyando-la-salud-mental-de-nuestros-menores-parte-2/
LOCATION:Madison Elementary School\, 1124 East Hobart Street\, Santa Ana\, CA\, 92707\, United States
CATEGORIES:Health Equity
END:VEVENT
BEGIN:VEVENT
DTSTART;TZID=America/Los_Angeles:20230111T180000
DTEND;TZID=America/Los_Angeles:20230111T193000
DTSTAMP:20260425T211912
CREATED:20230105T215045Z
LAST-MODIFIED:20230105T215045Z
UID:2542-1673460000-1673465400@mpnagreen.org
SUMMARY:Wellness Wednesday: Una Hora con la Doctora
DESCRIPTION:                                      
URL:https://mpnagreen.org/event/wellness-wednesday-una-hora-con-la-doctora/
LOCATION:Madison Elementary School\, 1124 East Hobart Street\, Santa Ana\, CA\, 92707\, United States
CATEGORIES:Health Equity
END:VEVENT
BEGIN:VEVENT
DTSTART;TZID=America/Los_Angeles:20221116T180000
DTEND;TZID=America/Los_Angeles:20221116T193000
DTSTAMP:20260425T211912
CREATED:20221116T230412Z
LAST-MODIFIED:20221117T004415Z
UID:2459-1668621600-1668627000@mpnagreen.org
SUMMARY:WELLNESS PROGRAM: Healthy Head\, Happy Heart
DESCRIPTION:THE GREEN-MPNA WELLNESS PROGRAM PRESENTS:\nHEALTHY HEAD\, HAPPY HEART: Mental Health in the Latino Community \nPresented By: Susana O. Salgado\, PH.D.\, Licensed Psychologist\, Clinical Supervisor\, and Community Consultant \nJoin us\, via ZOOM! LINK HERE: https://zoom.us/j/93068141944 \nZOOM MEETING ID: 930 6814 1944 PASSWORD: GREEN-MPNA \n     
URL:https://mpnagreen.org/event/wellness-program-healthy-head-happy-heart/
LOCATION:CA
CATEGORIES:Community,Health Equity
END:VEVENT
BEGIN:VEVENT
DTSTART;TZID=America/Los_Angeles:20220924T090000
DTEND;TZID=America/Los_Angeles:20220924T130000
DTSTAMP:20260425T211912
CREATED:20220819T053355Z
LAST-MODIFIED:20220819T053355Z
UID:2364-1664010000-1664024400@mpnagreen.org
SUMMARY:VACCINE CLINIC AT MADISON ELEMENTARY
DESCRIPTION:Vaccine Clinic at Madison Elementary School. Be sure to join us\, and spread the word!
URL:https://mpnagreen.org/event/vaccine-clinic-at-madison-elementary/
LOCATION:Madison Elementary School\, 1124 East Hobart Street\, Santa Ana\, CA\, 92707\, United States
CATEGORIES:Health Equity
END:VEVENT
BEGIN:VEVENT
DTSTART;TZID=America/Los_Angeles:20220831T180000
DTEND;TZID=America/Los_Angeles:20220831T193000
DTSTAMP:20260425T211912
CREATED:20220819T052334Z
LAST-MODIFIED:20220819T052334Z
UID:2359-1661968800-1661974200@mpnagreen.org
SUMMARY:Virtual Town Hall
DESCRIPTION:Topic: Pediatric Covid-19 Vaccines By Dr. Erlinda Ulloa\, UCI Health pediatrician specializing in infectious diseases \nJoin the town hall\, learn and stay informed about: The COVID-19 School project\, the importance of vaccination\, dosage schedule for children \nZOOM Link: 867 6633 1647 PASSWORD: MPNA \n 
URL:https://mpnagreen.org/event/virtual-town-hall/
LOCATION:CA
CATEGORIES:Health Equity
END:VEVENT
BEGIN:VEVENT
DTSTART;TZID=America/Los_Angeles:20220625T090000
DTEND;TZID=America/Los_Angeles:20220625T130000
DTSTAMP:20260425T211912
CREATED:20220620T180125Z
LAST-MODIFIED:20220620T180125Z
UID:2296-1656147600-1656162000@mpnagreen.org
SUMMARY:VACCINE CLINIC @ MADISON ELEMENTARY
DESCRIPTION:     
URL:https://mpnagreen.org/event/vaccine-clinic-madison-elementary/
LOCATION:Madison Elementary School\, 1124 East Hobart Street\, Santa Ana\, CA\, 92707\, United States
CATEGORIES:Health Equity
END:VEVENT
BEGIN:VEVENT
DTSTART;TZID=America/Los_Angeles:20220622T060000
DTEND;TZID=America/Los_Angeles:20220622T193000
DTSTAMP:20260425T211912
CREATED:20220620T180807Z
LAST-MODIFIED:20220620T180807Z
UID:2300-1655877600-1655926200@mpnagreen.org
SUMMARY:VIRTUAL COVID-19 TOWN HALL
DESCRIPTION:https://sausd.zoom.us/j/86766331647?pwd=V2owZGU3UHRPUnlTOFgySld5NUhXQT09 \nZOOM MEETING PASSWORD: MPNA \n     
URL:https://mpnagreen.org/event/virtual-covid-19-town-hall-2/
LOCATION:CA
CATEGORIES:Health Equity
END:VEVENT
BEGIN:VEVENT
DTSTART;TZID=America/Los_Angeles:20220514T090000
DTEND;TZID=America/Los_Angeles:20220514T140000
DTSTAMP:20260425T211912
CREATED:20220506T032420Z
LAST-MODIFIED:20220506T202021Z
UID:2265-1652518800-1652536800@mpnagreen.org
SUMMARY:Vaccine Clinic @ Madison Elementary
DESCRIPTION:Click HERE to book your appointment\n  \n   
URL:https://mpnagreen.org/event/covid-vaccines-madison-elementary-2/
LOCATION:Madison Elementary School\, 1124 East Hobart Street\, Santa Ana\, CA\, 92707\, United States
CATEGORIES:Health Equity
END:VEVENT
BEGIN:VEVENT
DTSTART;TZID=America/Los_Angeles:20220511T180000
DTEND;TZID=America/Los_Angeles:20220511T193000
DTSTAMP:20260425T211912
CREATED:20220506T200531Z
LAST-MODIFIED:20220506T200531Z
UID:2267-1652292000-1652297400@mpnagreen.org
SUMMARY:Virtual Covid-19 Town Hall
DESCRIPTION:https://sausd.zoom.us/j/86766331647?pwd=V2owZGU3UHRPUnlTOFgySld5NUhXQT09 \nZOOM MEETING PASSWORD: MPNA \n   
URL:https://mpnagreen.org/event/virtual-covid-19-town-hall/
LOCATION:CA
CATEGORIES:Health Equity
END:VEVENT
BEGIN:VEVENT
DTSTART;TZID=America/Los_Angeles:20220416T100000
DTEND;TZID=America/Los_Angeles:20220416T140000
DTSTAMP:20260425T211912
CREATED:20220407T000527Z
LAST-MODIFIED:20220407T000527Z
UID:2202-1650103200-1650117600@mpnagreen.org
SUMMARY:COVID Vaccines @ Madison Elementary
DESCRIPTION:Saturday\, April 16th\, 2022 \nTime: 10:00AM – 2:00 PM
URL:https://mpnagreen.org/event/covid-vaccines-madison-elementary/
LOCATION:Madison Elementary School\, 1124 East Hobart Street\, Santa Ana\, CA\, 92707\, United States
CATEGORIES:Health Equity
END:VEVENT
BEGIN:VEVENT
DTSTART;TZID=America/Los_Angeles:20220312T090000
DTEND;TZID=America/Los_Angeles:20220312T130000
DTSTAMP:20260425T211912
CREATED:20220220T004202Z
LAST-MODIFIED:20220220T004202Z
UID:2128-1647075600-1647090000@mpnagreen.org
SUMMARY:Madison Park community Vaccination Event at Madison Elementary School
DESCRIPTION:Join us and get vaccinated within your community on Saturday\, March 12th! \nAddress: 1124 Hobart St\, Santa Ana\, CA 92707
URL:https://mpnagreen.org/event/madison-park-community-vaccination-event-at-madison-elementary-school-3/
LOCATION:Madison Elementary School\, 1124 East Hobart Street\, Santa Ana\, CA\, 92707\, United States
CATEGORIES:Health Equity
END:VEVENT
END:VCALENDAR